BEGIN:VCALENDAR
VERSION:2.0
PRODID:-//Managementcenter Nord - ECPv4.9.14//NONSGML v1.0//EN
CALSCALE:GREGORIAN
METHOD:PUBLISH
X-WR-CALNAME:Managementcenter Nord
X-ORIGINAL-URL:https://www.mcnord.at
X-WR-CALDESC:Veranstaltungen im Managementcenter Nord
BEGIN:VTIMEZONE
TZID:Europe/Vienna
BEGIN:DAYLIGHT
TZOFFSETFROM:+0100
TZOFFSETTO:+0200
TZNAME:CEST
DTSTART:20260329T010000
END:DAYLIGHT
BEGIN:STANDARD
TZOFFSETFROM:+0200
TZOFFSETTO:+0100
TZNAME:CET
DTSTART:20261025T010000
END:STANDARD
END:VTIMEZONE
BEGIN:VEVENT
DTSTART;TZID=Europe/Vienna:20260217T090000
DTEND;TZID=Europe/Vienna:20260217T103000
DTSTAMP:20260420T042410
CREATED:20251220T154252Z
LAST-MODIFIED:20251220T154420Z
UID:3249-1771318800-1771324200@www.mcnord.at
SUMMARY:17.2.25 Businessbreakfast beim Kooperationspartner ÖGV zum Thema - Risikomanagement Due Diligence und Erwerb aus Insolvenzverfahren
DESCRIPTION:\n\n\nDer Due Diligence ist eine erste inhaltliche Verplausibilisierung und\nFaktencheck der bisher behauptenden Informationen über ein Unternehmen. Dies\nhat sich in den letzten Jahren immer mehr in den virtuellen Raum verlagert.\nDamit sind auch andere Anforderungen an den Datenraum und deren\nZugangsmöglichkeiten gegeben.  \n\n\n\nWeiters werden die Herren Ludvik und Buchegger über die Übergabe und\nÜbernahmemöglichkeiten im Rahmen von Insolvenzen referieren. Dieses Feld ist\ngerade in Zeiten von hohen Insolvenz-zahlen interessant\, da sich neue\nMöglichkeiten eröffnen\, Teilbereiche oder den ganzen Betrieb aus einer\nInsolvenz herauszulösen.  \n\n\n\nDie Herren Ludvik und Buchegger werden aus deren Erfahrungen von der\ninhaltlichen Aufarbeitung und Präsentation in Datenräumen auch über do’s und\ndon‘ts berichten. Über mögliche Stolpersteine\, im Rahmen von Insolvenzen\, so\ndass sich ein vermeintliches „Schnäppchen“ nicht zum Bumerang wird und den\neigenen Betrieb gefährdet. Welche Finanzierungsmodelle sind in diesem Bereich\nauch möglich.  \n\n\n\nEine unzureichende Kommunikation und Transparenz zwischen den Parteien im Rahmen des Due Diligence zählen zu den häufigsten Gründen warum ein Verkaufsprozess seitens des Käufers/Übernehmers abgebrochen wird. Welche Möglichkeiten der Prüfung bestehen im Rahmen von Käufen aus Insolvenzen? Wo liegen die Fallstricke die es zu vermeiden gilt? Wie kann die Finanzierung gelingen? Diese und ähnliche Fragen erörtern wir im Rahmen des Businessbreakfasts.  \n\n\n\nAnmeldung: anmeldung@gewerbeverein.at \n\n\n\nBzw. auf der Web-Site des ÖGV unter  Veranstaltungen  \n\n\n\n\n\n\n\n\n\n\n\n\n\n\n\n\n\n\n
URL:https://www.mcnord.at/event/17-2-25-oegv-businessbreakfast-risikomanagement-due-diligence-und-erwerb-aus-insolvenzverfahren/
LOCATION:ÖGV\, Palais Eschenbach\, Eschenbachstraße 11\, Wien\, Wien\, 1010\, Österreich
ATTACH;FMTTYPE=image/png:https://www.mcnord.at/wp-content/uploads/2019/03/Einladung_Foto_20190715.png
END:VEVENT
END:VCALENDAR