BEGIN:VCALENDAR
VERSION:2.0
PRODID:-//Managementcenter Nord - ECPv4.9.14//NONSGML v1.0//EN
CALSCALE:GREGORIAN
METHOD:PUBLISH
X-WR-CALNAME:Managementcenter Nord
X-ORIGINAL-URL:https://www.mcnord.at
X-WR-CALDESC:Veranstaltungen im Managementcenter Nord
BEGIN:VTIMEZONE
TZID:Europe/Vienna
BEGIN:DAYLIGHT
TZOFFSETFROM:+0100
TZOFFSETTO:+0200
TZNAME:CEST
DTSTART:20230326T010000
END:DAYLIGHT
BEGIN:STANDARD
TZOFFSETFROM:+0200
TZOFFSETTO:+0100
TZNAME:CET
DTSTART:20231029T010000
END:STANDARD
END:VTIMEZONE
BEGIN:VEVENT
DTSTART;TZID=Europe/Vienna:20231005T083000
DTEND;TZID=Europe/Vienna:20231005T164500
DTSTAMP:20260420T072519
CREATED:20230905T072052Z
LAST-MODIFIED:20230905T073403Z
UID:2622-1696494600-1696524300@www.mcnord.at
SUMMARY:1st Entrepreneurship und Business Management Summit
DESCRIPTION:\n\n\nPräsenzevent im Palais Eschenbach Wien von „Betrieb zu haben“ und dem ÖGV\, Wien \n\n\n\nBusiness Management Summit 2023 mit dem Bundesminister für Arbeit und Wirtschaft Mag. Dr. Martin Kocher. \n\n\n\nWissens- und Praxis-Sessions mit Fachbeiträgen\, Praxisbeispielen und Diskussionen zum jeweiligen Thema: \n\n\n\nA – Mitarbeiterbindung – Dr. Gerhard Kantusch & Dr. Ernst JauernikB – Alternative Finanzierungen – Mag. (FH) Andreas Draxler & Mag. (FH) Claudia SteigerC – Cybersecurity – Mag. Peter Stolzlederer & Manuel AuzingerD – Risikomanagement – Peter Androsch & Mag. PhDr. Peter BucheggerE – Unternehmenstransaktionen – Mag. Dr. Vedran Obradović – Mag. Dr. Harald SchützingerF – Betriebsübergabe in der Familie – Dr. Thomas Reischauer\, MBA\, CMC – Maria Reischauer \n\n\n\nEinladungsfolder mit Details zumHerunterladen\n\n\n\nAnmeldung unter  1. Entrepreneurship & Business Management Summit Tickets\, Do\, 05.10.2023 um 08:30 Uhr | Eventbrite  \n\n\n\n\n\n\n\n\n\n\n\n\n\n\n\n\n\n\n
URL:https://www.mcnord.at/event/1st-entrepreneurship-und-business-management-summit/
LOCATION:ÖGV\, Palais Eschenbach\, Eschenbachstraße 11\, Wien\, Wien\, 1010\, Österreich
ATTACH;FMTTYPE=image/jpeg:https://www.mcnord.at/wp-content/uploads/2023/09/EntrepreneurshipSymposium.jpg
END:VEVENT
END:VCALENDAR