BEGIN:VCALENDAR
VERSION:2.0
PRODID:-//Managementcenter Nord - ECPv4.9.14//NONSGML v1.0//EN
CALSCALE:GREGORIAN
METHOD:PUBLISH
X-WR-CALNAME:Managementcenter Nord
X-ORIGINAL-URL:https://www.mcnord.at
X-WR-CALDESC:Veranstaltungen im Managementcenter Nord
BEGIN:VTIMEZONE
TZID:Europe/Vienna
BEGIN:DAYLIGHT
TZOFFSETFROM:+0100
TZOFFSETTO:+0200
TZNAME:CEST
DTSTART:20190331T010000
END:DAYLIGHT
BEGIN:STANDARD
TZOFFSETFROM:+0200
TZOFFSETTO:+0100
TZNAME:CET
DTSTART:20191027T010000
END:STANDARD
END:VTIMEZONE
BEGIN:VEVENT
DTSTART;TZID=Europe/Vienna:20190920T080000
DTEND;TZID=Europe/Vienna:20190920T110000
DTSTAMP:20260420T073543
CREATED:20190311T171024Z
LAST-MODIFIED:20190801T084435Z
UID:1020-1568966400-1568977200@www.mcnord.at
SUMMARY:Businessbreakfast - Geschäftsführer\, kennst du die Risiken in deinem Geschäft?
DESCRIPTION:\n\n\nAm 20. September 2019 laden wir Sie wieder zu unserem kostenlosen Businessbreakfast in Linz ein. Diesmal geht es um verschiedene Risiken\, die es zu vermeiden gilt. Norbert Obermayr wird über die steigende Bedeutung des Risikomanagements referieren\, Peter Buchegger wird aufzeigen\, wie man mit modernen Methoden Dokumentationen erzeugt\, um so Risiken zu vermeiden. Danach folgt Alexander Hasch und beleuchtet das Thema der GF-Haftung aus juristischer Sicht. Franz Innerhuber wird uns aufzeigen\, wie man Risiken optimal über Versicherungen abdeckt. Melden Sie sich schon jetzt an\, denn es gibt nur beschränkte Plätze. \n\n\n\nEinladung zum Download: \n\n\n\nRisikomanagement_Businessbreakfast_Einladung_20190920_Herunterladen\n\n\n\n08:00 –\n08:30 Empfang bei einem Frühstücksbuffet \n\n\n\n08:35 – 10:45 Vorträge & Fachgespräche \n\n\n\nMit Risken umgehen. Statt Risken umgehen.Über die steigende Bedeutung eines Risikomanagements.Referent: Dr. Norbert Obermayr \n\n\n\n\n\n\n\n\n\nWie können Risken durch Dokumentationen des Betriebes entsprechend vermieden werden.Referent: Dr. Peter Buchegger \n\n\n\n\n\n\n\n\n\nCompliance: Rechtlicher ÜberblickReferent: DDr. Alexander Hasch \n\n\n\n\n\n\n\n\n\nHaftungsvermeidung durch Versicherung.Referent: Ing. Franz Innerhuber \n\n\n\n\n\n\n\n\n\nFachgespräche\nam Tisch unserer vier Fachreferenten \n\n\n\n\n\n\n\n\n\n\n\n\n\n\n\n\n
URL:https://www.mcnord.at/event/businessbreakfast-haftungsvermeidung-durch-risikomanagement/
LOCATION:Krypta des Karmelitenkonvents\, Harrachstraße 2\, 4020 Linz (Parkmöglichkeit in der Tiefgarage Zentrum Dametzstraße 34)\, Harrachstraße 2\, Linz\, 4020\, Österreich
CATEGORIES:Businessbreakfast
ATTACH;FMTTYPE=image/png:https://www.mcnord.at/wp-content/uploads/2019/03/Einladung_Foto_20190715.png
END:VEVENT
END:VCALENDAR