BEGIN:VCALENDAR
VERSION:2.0
PRODID:-//Managementcenter Nord - ECPv4.9.14//NONSGML v1.0//EN
CALSCALE:GREGORIAN
METHOD:PUBLISH
X-WR-CALNAME:Managementcenter Nord
X-ORIGINAL-URL:https://www.mcnord.at
X-WR-CALDESC:Veranstaltungen im Managementcenter Nord
BEGIN:VTIMEZONE
TZID:Europe/Vienna
BEGIN:DAYLIGHT
TZOFFSETFROM:+0100
TZOFFSETTO:+0200
TZNAME:CEST
DTSTART:20190331T010000
END:DAYLIGHT
BEGIN:STANDARD
TZOFFSETFROM:+0200
TZOFFSETTO:+0100
TZNAME:CET
DTSTART:20191027T010000
END:STANDARD
END:VTIMEZONE
BEGIN:VEVENT
DTSTART;TZID=Europe/Vienna:20191122T080000
DTEND;TZID=Europe/Vienna:20191122T110000
DTSTAMP:20260420T074657
CREATED:20190311T171355Z
LAST-MODIFIED:20191112T194916Z
UID:1023-1574409600-1574420400@www.mcnord.at
SUMMARY:Businessbreakfast - Teufelskreis Bonität und Finanzierung
DESCRIPTION:\n\n\n In den Fachvorträgen im Rahmen des Businessbreakfast – inkl. Möglichkeit zu Einzelgesprächen mit den Experten – erfahren Sie Details über die komplexen Zusammenhänge\, Spielregeln & Beteiligte. Weiters werden konkrete Lösungswege zur kontinuierlichen Bonitäts-Verbesserung und von praxistauglichen Formen alternativer Finanzierungs-Strategien für Unternehmen & Geschäftsführer dargestellt. TOP-AKTUELL: Nun auch mit Gastredner Mag. Weinhofer\, GF Creditrefom Öst. u. Roland Führer\, MAS\, MBA vom KSV1870. \n\n\n\nDas Managementcenter Nord lädt Sie zum Businessbreakfast am Freitag 22. November 2019 von 8:30 bis ca. 10:45zum Thema „Teufelskreis Bonität & Finanzierung“ ein. \n\n\n\nOrt:Edith Stein Haus des Karmelitenkonvents\, Harrachstraße 4\, 4020 Linz \n\n\n\nTeilnahmegebühr: kostenlos \n\n\n\nAnmeldung: veranstaltung@managementcenternord.at bis zum 15.11.2019 oder über diese Website. Begrenzte Teilnehmerzahl – sichern Sie sich daher schon bald Ihre Teilnahme. \n\n\n\nEinladung MCN Businessbreakfast am 22.11.2019 – Teufelskreis Bonität und Finanzierung zum DownloadHerunterladen\n\n\n\nProgramm: \n\n\n\n08:00 bis 08:30       Empfang mit Frühstück08:30 bis 08:35       Begrüßung08:35 bis 08:55       Bonitätsgeheimnisse für eigenen Betrieb nützen08:55 bis 09:15       Indikatoren\, um flüssig zu bleiben09:15 bis 09:40       Fach/ Einzel-Gespräche an den Tischen der 4 Fachreferenten09:40 bis 10:00       Rechtsform und Bonität10:00 bis 10:20       Alternative Finanzierungsmodelle für welche Situationen10:20-10:25            Ausblick auf Vorträge/ Veranstaltungen d. MCN im Jahr 202010:25 – 11:00         Fach/ Einzel-Gespräche an den Tischen der 4 Fachreferenten\n\n\n\n\n  Vortrag 1\n     Martin Binder Gerhard WeinhoferRoland Führer  Bonitäts-Geheimnisse für eigenen Betrieb nützen Entstehung v. Bonitätswerten:  Welche Beteiligte arbeiten mit Bonitätswerten und wer erstellt alle Ratings? Welche Faktoren / Kennzahlen fließen mit ein und wie können die Ratings verbessert werden?Auswirkungen v. Bonitätswerten im Wirtschafts-Alltag: Welche konkreten Alltags-Auswirkungen ergeben sich durch die einzelnen Höhen der Ratings ? Was bedeutet dies für Ihre Finanzierungsstruktur ?Bonität und Schäden:  Wie sich Forderungsausfälle und nicht gedeckte Haftpflichtschäden auf die Bonität auswirken ! KSV & CREDITREFORM: Welche unterschiedlichen Schwerpunkte haben diese beiden in Österreich führenden Institutionen  und welche Tipps für Ihren Betrieb für eine positive Bearbeitung der Bewertungen \n  Vortrag 2\n  \n  Alexander Hasch\n  Unternehmensrechtliche Instrumente zur BonitätserhalungOptimierung der Rechtsform\, auch zur Absicherung geschaffener WerteMezzanindarlehenEigenkapitalersatzUnternehmensreorganisationsgesetznotwendige Unternehmensplänegesetzliche Fristen (§§ 66-69 IO)\, Konsequenzen\n  Vortrag 3\n  \n  Harald\n  Schützinger\n  Indikatoren\, um flüssig zu bleibenVon den Bilanz-Kennzahlen bis zur Finanzplanung zur Steuerung der Liquidität.Die goldene Bilanzregel besagt\, dass langfristiges Vermögen auch langfristig finanziert werden soll. Dahinter steckt\, dass Finanzierungen fristenkongruent aufgebaut sein sollen. Bilanzkennzahlen sind zwar wertvoll\, ermitteln in diesem Zusammenhang aber viel zu vereinfachte Ergebnisse.  Die Fristenkongruenz muss zu jeder Zeit gewährleistet sein. Daher wird man Elemente wie das Working Capital\, die Zahlungsfristen in Verbindung mit den Forderungen und Zessionen und die Kapitalrückzahlungen prognostizieren. Wir betrachten hierbei URG-Kennzahlen\, Quicktest\, Diskriminanzanalyse\, OP-Altersreporte und den Kapitaldienstpunkte. Somit steuern Sie perfekt kennzahlenorientiert Ihre Liquidität bei aller Komplexität des Sachverhalts. \n  Vortrag 4\n  \n  Peter Buchegger\n  Andreas\n  Gumpetsberger\n  Martin Binder\n  weitere\n  Alternative Finanzierungsmodelle für welche Situation   WORDRAP: * neuer & alternativer Finanzierungsmodelle   * Crowd Funding Mezzaninkapital/Hybridkapital und Beteiligungen der öffentlichen Hand* Sale & Lease-Back* Garantie-Rahmen  von Versicherungen            \n\n\n\n\n\nEinladung zum Businessbreakfast von Mag. Martin Binder\, efm\n\n\n\n\n\nBusinessbreakfasteinladung zum 22.11.2019 von DDr. Alexander Hasch\n\n\n\n\n\nEinflussgrößen und Steuerungsmöglichkeiten der Bonität von Mag. Martin Binder\n\n\n\n\n\nKennzahlenorientierte Bonitätssteuerung und Liquiditätssteuerung von Mag. Harald Schützinger\, orangecosmos\n\n\n\n\n\nWachstumskongruente Finanzierung\, neue Finanzierungsmodelle von Mag. Andreas Gumpetsberger\, MBA\, orangecosmos\n\n\n\n\n\nImagevideo des KSV\n\n\n\nVortragende \n\n\n\n\n\n\n\nMag. Harald Schützinger\, Unternehmensberater      & Steuerberater\,       OrangeCosmos Strategie\, OE und InnovationMag. Martin Binder Unternehmensberater &      Versicherungsmakler EFM Linz Urfahr – Bonität\, Finanzierungen &      Spezial-VersicherungslösungenDr. Peter Buchegger\, Apart ConsultingDDr. Alexander Hasch\, Rechtsanwalt\, Univ.      Lektor\, HASCH & PARTNER Anwaltsgesellschaft mbH\n\n\n\nBeschreibung \n\n\n\nUnternehmerinnen und Unternehmer\nstecken die meiste Zeit im operativen Alltagsgeschäft. Um sich selbständig\,\nkompetent und regelmäßig um Ihre eigenen Bonitätsbewertungen zu kümmern fehlt\noftmals die Zeit und das Know-How.  \n\n\n\nHier erfahren Sie über die\nHintergründe\, wie Ratingagenturen & Ausfalls-Versicherungen ticken und vor\nallem Wie Sie die Bonitätswerte Ihres Unternehmens und von sich selber\nverbessern können.  \n\n\n\nWeiters lernen sie die Zusammenhänge\nzwischen Bonität und den Möglichkeiten Ihrer Finanzierungen kennen. \n\n\n\nEine gute Bonität ist DER Key-Faktor\nfür Ihre langfristige\, positive wirtschaftliche Entwicklung. \n\n\n\nIhr Nutzen \n\n\n\nSie erfahren Hintergründe und Zusammenhänge und können für sich und Ihr Unternehmen entscheiden wie Sie in Zukunft Ihre Bonität bearbeiten und verbessern können. Damit können Sie Ansatzpunkte für Ihre weiteren Finanzierungen erkennen.  \n\n\n\n\n\n\n\n\n\n\n\n\n\n\n
URL:https://www.mcnord.at/event/businessbreakfast-teufelskreis-bonitaet-und-finanzierung/
LOCATION:Edith Stein Haus (Parkmöglichkeit in der Tiefgarage Zentrum Dametzstraße 34)\, Harrachstraße 4\, Linz\, Österreich\, 4020\, Österreich
CATEGORIES:Businessbreakfast
ATTACH;FMTTYPE=image/png:https://www.mcnord.at/wp-content/uploads/2019/03/Einladung_Foto_20190715.png
END:VEVENT
END:VCALENDAR