BEGIN:VCALENDAR
VERSION:2.0
PRODID:-//Managementcenter Nord - ECPv4.9.14//NONSGML v1.0//EN
CALSCALE:GREGORIAN
METHOD:PUBLISH
X-WR-CALNAME:Managementcenter Nord
X-ORIGINAL-URL:https://www.mcnord.at
X-WR-CALDESC:Veranstaltungen im Managementcenter Nord
BEGIN:VTIMEZONE
TZID:Europe/Vienna
BEGIN:DAYLIGHT
TZOFFSETFROM:+0100
TZOFFSETTO:+0200
TZNAME:CEST
DTSTART:20190331T010000
END:DAYLIGHT
BEGIN:STANDARD
TZOFFSETFROM:+0200
TZOFFSETTO:+0100
TZNAME:CET
DTSTART:20191027T010000
END:STANDARD
END:VTIMEZONE
BEGIN:VEVENT
DTSTART;TZID=Europe/Vienna:20190704T083000
DTEND;TZID=Europe/Vienna:20190704T104500
DTSTAMP:20260420T072730
CREATED:20190311T170542Z
LAST-MODIFIED:20190522T171351Z
UID:1017-1562229000-1562237100@www.mcnord.at
SUMMARY:Businessbreakfast - Was ist ein Unternehmen wert?
DESCRIPTION:\n\n\nUnternehmenswert bestimmen und steigern (aus Sicht der Unternehmer\, Investoren\, Banken\, Erben\, Gutachter) \n\n\n\nDas Managementcenter\nNord lädt Sie zum Businessbreakfast  \n\n\n\nam Donnerstag 4. Juli 2019 von 8:30 bis ca. 10:45  \n\n\n\nzum Thema „Unternehmenswert bestimmen und steigern“\nein. \n\n\n\nOrt: \n\n\n\nHotel ibis Linz City  \n\n\n\nKärntner Straße\n18-20\, 4020 Linz (beim Linzer Bahnhof) \n\n\n\nTeilnahmegebühr: kostenlos \n\n\n\nAnmeldung: veranstaltung@managementcenternord.at bis zum 28.06.2019Begrenzte Teilnehmerzahl – sichern Sie sich daher\nschon bald Ihre Teilnahme.  \n\n\n\nProgramm:  \n\n\n\n08:30                   Empfang mit Frühstück08:45 bis 09:30\n    Vorträge\nund Diskussion  – Runde 109:30 bis 09:50     Frühstück\n& Fragen & Networking09:50 bis 10:30    \nVorträge und Diskussion  – Runde 210:30 bis 10:45\nff. Abschluss\, Networking\n\n\n\n\n  Vortrag 1\n  \n  Harald Schützinger\n  \n  Unternehmenswert bestimmen:\n  Was ist (m)ein Unternehmen wert? \n  Was verändert sich durch Immobilien im Betriebsvermögen?\n  \n  Vortrag 2\n  \n  Thomas Reischauer\n  \n  Unternehmenwert steigern:\n  An welchen Parametern dreht man\, um den Wert des\n  Unternehmens zu steigern?\n   \n  \n  Vortrag 3\n  \n  Christian Schreiberhuber\n  \n  Über Unternehmenwert streiten:\n  Wie objektiviert man einen Unternehmenswert?\n   \n  \n  Vortrag 4\n  \n  Alexander Hasch\n  \n  Unternehmenswerte erben:\n  Tipps zu testamentarischen Verfügungen (vom\n  Pflichtteil\, Schenkungen auf den Todesfall\, etc.) im Zusammenhang mit dem\n  Unternehmenswert.\n  \n\n\n\nVortragende \n\n\n\nMag. Harald Schützinger\, Unternehmensberater &\nSteuerberater\, \nOrangeCosmos Strategie\, OE und InnovationDr. Thomas Reischauer\, Unternehmensberater\, Reischauer\nConsulting GmbHIng. Mag. Christian Schreiberhuber\, M.B.L.-HSG\, C2\nManagement SolutionsDDr. Alexander Hasch\, Rechtsanwalt\, Univ. Lektor\, HASCH\n& PARTNER Anwaltsgesellschaft mbH\n\n\n\n\n\n\n\n\n\n\n\n\n\n\n\n\n\n\n\n\n\n\n\n\n\n\n\nBeschreibung \n\n\n\nUnternehmerinnen und Unternehmer stecken viel Lebensenergie in ihr\nLebenswerk. Wenn man nun die Firma verkauft\, übergibt oder einen\nBeteiligungspartner sucht\, so stellt sich stets die Frage\, ob das Unternehmen\nausreichend viel wert ist. \n\n\n\nErfahren Sie welche Stellhebel den Wert eines Unternehmens beeinflussen. \n\n\n\nZuerst beleuchten wir die Wertfindung\, dann die Stellhebel zur\nSteigerung. Nicht immer ist die Wertermittlung konfliktfrei; daher ist es\ninteressant wie ein Gutachter zur Wertfindung kommt. Und letzten Endes sollte\nman erbrechtlich alles richtig machen\, damit man keine bösen Überraschungen\nerlebt. \n\n\n\nIhr Nutzen \n\n\n\nNach diesem Vormittag\nhaben Sie einen Überblick\, was alles um die Wertfindung eines Unternehmens zu\nbeachten ist. \n\n\n\n\n\n\n\n\n\n\n\n\n
URL:https://www.mcnord.at/event/businessbreakfast-unternehmenswert-ermitteln-und-steigern/
LOCATION:Ibis City Linz\, Kärntner Straße 18\, Linz\, 4020\, Österreich
CATEGORIES:Businessbreakfast
ATTACH;FMTTYPE=image/jpeg:https://www.mcnord.at/wp-content/uploads/2019/01/abendessen-billardtisch-brot-163018.jpg
END:VEVENT
END:VCALENDAR