BEGIN:VCALENDAR
VERSION:2.0
PRODID:-//Managementcenter Nord - ECPv4.9.14//NONSGML v1.0//EN
CALSCALE:GREGORIAN
METHOD:PUBLISH
X-WR-CALNAME:Managementcenter Nord
X-ORIGINAL-URL:https://www.mcnord.at
X-WR-CALDESC:Veranstaltungen im Managementcenter Nord
BEGIN:VTIMEZONE
TZID:Europe/Vienna
BEGIN:DAYLIGHT
TZOFFSETFROM:+0100
TZOFFSETTO:+0200
TZNAME:CEST
DTSTART:20230326T010000
END:DAYLIGHT
BEGIN:STANDARD
TZOFFSETFROM:+0200
TZOFFSETTO:+0100
TZNAME:CET
DTSTART:20231029T010000
END:STANDARD
END:VTIMEZONE
BEGIN:VEVENT
DTSTART;TZID=Europe/Vienna:20231214T080000
DTEND;TZID=Europe/Vienna:20231214T103000
DTSTAMP:20260420T053956
CREATED:20231116T150016Z
LAST-MODIFIED:20231116T150029Z
UID:2698-1702540800-1702549800@www.mcnord.at
SUMMARY:Cybersecurity
DESCRIPTION:\n\n\nCybersecurity – aus der Sicht der Unternehmen und der Provider – wann ist man als Unternehmen ausreichend geschützt? \n\n\n\nDetails entnehmen Sie bitte dem Einladungsfolder zumHerunterladen\n\n\n\n\n\n\n\n\n\n\n\n\n\n\n\n\n\n\n
URL:https://www.mcnord.at/event/cybersecurity/
LOCATION:ÖGV\, Palais Eschenbach\, Eschenbachstraße 11\, Wien\, Wien\, 1010\, Österreich
ATTACH;FMTTYPE=image/png:https://www.mcnord.at/wp-content/uploads/2019/03/Einladung_Foto_20190715.png
END:VEVENT
END:VCALENDAR