BEGIN:VCALENDAR
VERSION:2.0
PRODID:-//Managementcenter Nord - ECPv4.9.14//NONSGML v1.0//EN
CALSCALE:GREGORIAN
METHOD:PUBLISH
X-WR-CALNAME:Managementcenter Nord
X-ORIGINAL-URL:https://www.mcnord.at
X-WR-CALDESC:Veranstaltungen im Managementcenter Nord
BEGIN:VTIMEZONE
TZID:Europe/Vienna
BEGIN:DAYLIGHT
TZOFFSETFROM:+0100
TZOFFSETTO:+0200
TZNAME:CEST
DTSTART:20200329T010000
END:DAYLIGHT
BEGIN:STANDARD
TZOFFSETFROM:+0200
TZOFFSETTO:+0100
TZNAME:CET
DTSTART:20201025T010000
END:STANDARD
END:VTIMEZONE
BEGIN:VEVENT
DTSTART;TZID=Europe/Vienna:20201117T131500
DTEND;TZID=Europe/Vienna:20201117T143000
DTSTAMP:20260424T083910
CREATED:20201018T123452Z
LAST-MODIFIED:20201018T123520Z
UID:1909-1605618900-1605623400@www.mcnord.at
SUMMARY:Der Einfluss der Führung – Arbeitssicherheit im Dilemma zwischen Verhalten\, Zeit und Kosten
DESCRIPTION:\n\n\n Vortrag von Dr. Norbert Obermayr am ersten Tag des Deutschen Arbeitsschutz-Kongress 2020 \n\n\n\nThemen werden sein:  \n\n\n\nZusammenhänge von Führungsverhalten und ArbeitssicherheitskulturWarum verhindern die vielen Handlungsanweisungen Arbeitsunfälle nicht?Die „richtige“ Arbeitssicherheit und Ihre Komponenten: So kann es in der Praxis funktionieren!Wie entsteht eine Sicherheitskultur im Unternehmen?\n\n\n\nAlle Informationen zum Kongress finden sie auf https://www.deutscher-arbeitsschutz-kongress.de/ \n\n\n\n \n\n\n\n\n\n\n\n\n\n\n\n\n\n\n\n\n\n\n
URL:https://www.mcnord.at/event/der-einfluss-der-fuehrung-arbeitssicherheit-im-dilemma-zwischen-verhalten-zeit-und-kosten/
LOCATION:H+ Hotel Bad Soden\, Königsteiner Straße 88\, 65812 Bad Soden\, Königsteiner Straße 88\, Bad Soden\, 65812\, Deutschland
ATTACH;FMTTYPE=image/jpeg:https://www.mcnord.at/wp-content/uploads/2019/01/Norbert_PB_1510244x5-e1556812604735.jpg
END:VEVENT
END:VCALENDAR