BEGIN:VCALENDAR
VERSION:2.0
PRODID:-//Managementcenter Nord - ECPv4.9.14//NONSGML v1.0//EN
CALSCALE:GREGORIAN
METHOD:PUBLISH
X-WR-CALNAME:Managementcenter Nord
X-ORIGINAL-URL:https://www.mcnord.at
X-WR-CALDESC:Veranstaltungen im Managementcenter Nord
BEGIN:VTIMEZONE
TZID:Europe/Vienna
BEGIN:DAYLIGHT
TZOFFSETFROM:+0100
TZOFFSETTO:+0200
TZNAME:CEST
DTSTART:20200329T010000
END:DAYLIGHT
BEGIN:STANDARD
TZOFFSETFROM:+0200
TZOFFSETTO:+0100
TZNAME:CET
DTSTART:20201025T010000
END:STANDARD
END:VTIMEZONE
BEGIN:VEVENT
DTSTART;TZID=Europe/Vienna:20200306T080000
DTEND;TZID=Europe/Vienna:20200306T110000
DTSTAMP:20260424T085647
CREATED:20191221T155701Z
LAST-MODIFIED:20200213T144752Z
UID:1721-1583481600-1583492400@www.mcnord.at
SUMMARY:Digitale Produkte und Geschäftsmodelle
DESCRIPTION:\n\n\nDigitalisierung verändert unsere Gesellschaft\nund Wirtschaft bzw. wird diese weiter verändern. Durch Digitalisierung werden\nnicht notwendigerweise alle arbeitslos\, jedoch wird sich die Leistung\n(=Wertangebot) von Organisation und die Arbeit in Organisationen verändern.  \n\n\n\nErfolgreich digitale Strategien in Organisationen steigern entweder Umsatz\, senken Kosten oder bieten völlig neuartigen Nutzen. Wir möchten mit dieser Veranstaltung einen Beitrag liefern\, damit Unternehmen und NPOs neue digitale Wertangebote anbieten können und diese auch rechtlich absichern können.  Um das eigene Geschäftsmodell aktiv gegen aufkommende Wettbewerber zu verteidigen\, ist es notwendig bei der erfolgreichen digitalen Transformation des bestehenden Kerngeschäfts anzusetzen. Wir stellen Werkzeuge (zB Innovationsroadmap\, Canvas\, Großgruppenintervention\, etc.) vor und diskutieren Hindernisse in der Praxis. \n\n\n\n\n————— \n\n\n\nEinladung in PDF zum HerunterladenHerunterladen\n\n\n\nVORTRAGSINHALT IM ÜBERBLICK: \n\n\n\n Erfolgreiche Digitalisierung von Geschäftsmodellen Mag. Dr. Alexander Brendel-Schauberger – FH Wels: Innovations- & Produktmanagement  \n\n\n\nFallbeispiele zur Entwicklung digitaler Produkte Dr. Thomas Reischauer – Reischauer Consulting\, Mag. Andreas Gumpetsberger\, MBA – orangecosmos \n\n\n\n Rechtliche Aspekte für den Online-Auftritt Mag. Florian Pum – HASCH & PARTNER Mag. Josef Lehner – HASCH & PARTNER \n\n\n\nTeilnahmegebühr: \n\n\n\n\n\n\n\n\n\n\nEinladungsvideos zum 6.3.2020 Businessbreakfast des MCN: \n\n\n\n\n\nEinladung Bunsinessbreakfast 6.3.2020 Andreas Gumbetsberger zum Thema digitale Geschäftsmodelle\n\n\n\n\n\nEinladung Thomas Reischauer zum Businessbreakfast am 6.3.2020 – digitale Geschäftsmodelle und Produkte\n\n\n\n\n\nEinladung Florian Pum\, Josef Lehner von Hasch & Partner  zum Thema rechtliche Aspekte  für Ihren Online – Auftritt\n\n\n\n\n\n\n\nVeranstalter: \n\n\n\n\n\n\n\n\n\n\n\n\n\n\n\n\n
URL:https://www.mcnord.at/event/digitale-produkte-und-geschaeftsmodelle/
LOCATION:Edith Stein Haus (Parkmöglichkeit in der Tiefgarage Zentrum Dametzstraße 34)\, Harrachstraße 4\, Linz\, Österreich\, 4020\, Österreich
CATEGORIES:Businessbreakfast
ATTACH;FMTTYPE=image/png:https://www.mcnord.at/wp-content/uploads/2019/03/Einladung_Foto_20190715.png
ORGANIZER;CN="Managementcenter%20Nord":MAILTO:veranstaltung@managementcenternord.at
END:VEVENT
END:VCALENDAR