BEGIN:VCALENDAR
VERSION:2.0
PRODID:-//Managementcenter Nord - ECPv4.9.14//NONSGML v1.0//EN
CALSCALE:GREGORIAN
METHOD:PUBLISH
X-WR-CALNAME:Managementcenter Nord
X-ORIGINAL-URL:https://www.mcnord.at
X-WR-CALDESC:Veranstaltungen im Managementcenter Nord
BEGIN:VTIMEZONE
TZID:Europe/Vienna
BEGIN:DAYLIGHT
TZOFFSETFROM:+0100
TZOFFSETTO:+0200
TZNAME:CEST
DTSTART:20210328T010000
END:DAYLIGHT
BEGIN:STANDARD
TZOFFSETFROM:+0200
TZOFFSETTO:+0100
TZNAME:CET
DTSTART:20211031T010000
END:STANDARD
END:VTIMEZONE
BEGIN:VEVENT
DTSTART;TZID=Europe/Vienna:20211008T080000
DTEND;TZID=Europe/Vienna:20211008T090000
DTSTAMP:20260424T085636
CREATED:20210324T131617Z
LAST-MODIFIED:20210324T132108Z
UID:2086-1633680000-1633683600@www.mcnord.at
SUMMARY:MCN-Onlinebreakfast: Digitalisierung und Automatisierung im Rechnungswesen
DESCRIPTION:\n\n\nMag. Andreas Gumpetsberger\, MBA lädt am 8.10.2021 zum Thema Digitalisierung und Automatisierung im Rechnungswesen ein. \n\n\n\nHundertprozentige Präzision und höchste Qualität sind Ansprüche\, welche das Rechnungswesen zu erfüllen hat. Auch in der Zukunft wird die fachliche Expertise dabei eine große Rolle spielen. Die Eingabe und Erfassungstätigkeiten werden tendenziell weniger\, die Kontroll- und Complianceaufgaben mehr. Wie Sie mit Fingerspitzengefühl diese Veränderung im Unternehmen (bei gleichzeitig laufendem Tagesgeschäft) bewältigen können\, möchten wir in diesem Online Breakfast diskutieren. Wir möchten die aktuellen Problemstellungen und Lösungen diskutieren und deren Potentiale für unterschiedliche Branchen/Unternehmensgrößen kritisch hinterfragen.  \n\n\n\nics Kalender-Eintrag für 08-Digitalisierung-und-Automatisierung-im-RechnungswesenHerunterladen\n\n\n\nMCN Jahresprogramm 2021 zu den Onlinebreakfasts zumHerunterladen\n\n\n\nWählen Sie sich zu Ihrem Wunschtermin kostenfrei per MS-Teams ein. \n\n\n\nSie können sich jeweils mit folgendem Link einwählen: \n\n\n\nMCN ONLINE BREAKFAST per MS-TEAMS \n\n\n\nBitte melden Sie sich über veranstaltung@managementcenternord.at oder direkt über das unten stehende Anmeldeformular RVSP an. \n\n\n\nZu Beginn des MCN Online Breakfast wird ein kurzer Fachinput gesetzt und dann über die Themen diskutiert. Wir freuen uns auf Ihre Teilnahme. \n\n\n \n\n\n\n\n\n\n\n\n\n\n\n\n\n\n\n\n\n
URL:https://www.mcnord.at/event/digitalisierung-und-automatisierung-im-rechnungswesen/
ATTACH;FMTTYPE=image/png:https://www.mcnord.at/wp-content/uploads/2019/03/Einladung_Foto_20190715.png
END:VEVENT
END:VCALENDAR