BEGIN:VCALENDAR
VERSION:2.0
PRODID:-//Managementcenter Nord - ECPv4.9.14//NONSGML v1.0//EN
CALSCALE:GREGORIAN
METHOD:PUBLISH
X-WR-CALNAME:Managementcenter Nord
X-ORIGINAL-URL:https://www.mcnord.at
X-WR-CALDESC:Veranstaltungen im Managementcenter Nord
BEGIN:VTIMEZONE
TZID:Europe/Vienna
BEGIN:DAYLIGHT
TZOFFSETFROM:+0100
TZOFFSETTO:+0200
TZNAME:CEST
DTSTART:20230326T010000
END:DAYLIGHT
BEGIN:STANDARD
TZOFFSETFROM:+0200
TZOFFSETTO:+0100
TZNAME:CET
DTSTART:20231029T010000
END:STANDARD
END:VTIMEZONE
BEGIN:VEVENT
DTSTART;TZID=Europe/Vienna:20231117T081500
DTEND;TZID=Europe/Vienna:20231117T103000
DTSTAMP:20260420T072629
CREATED:20231103T070723Z
LAST-MODIFIED:20231103T070805Z
UID:2670-1700208900-1700217000@www.mcnord.at
SUMMARY:FlexCo - Flexible Kapitalgesellschaft | neue Möglichkeiten der Mitarbeiterbeteiligung
DESCRIPTION:\n\n\nMit dem Gesellschaftrechtsänderungsgesetz 2023\nwird nochmals das erforderliche Mindeststammkapital einer GmbH auf 10.000 Euro\nabgesenkt und es wird zusätzlich die Möglichkeit der Gründung einer flexiblen\nKapitalgesellschaft (FlexCo) geschaffen.  \n\n\n\nDie FlexCo baut\nauf dem GmbH-Recht auf und es wurden zusätzlich attraktive\nGestaltungsmöglichkeiten zu Kapitalmaßnahmen geschaffen\, die bis dato nur aus\ndem Aktienrecht bekannt waren.  \n\n\n\nDaher entsteht eine erhöhte\nFlexibilität für Beteiligungen im Sinne von Venture Capital bzw.\nMitarbeiterbeteiligungen. Die neuen unternehmensrechtlichen Regelungen werden\nIhnen kompakt vorgestellt.  \n\n\n\nBringen Sie sich auf den letzten\nStand der Kenntnisse zu den Potenzialen der neuen Rechtsform. \n\n\n\nAuch die Besonderheiten im Abgabenrecht im Rahmen der Mitarbeiterbeteiligungen werden erörtert. Ebenso wird kurz über die Wertfindung reflektiert. Da Mitarbeiterbeteiligungen auch aus dem Geschäftsmodell heraus Sinn machen müssen\, reflektieren wir über das Spannungsfeld zwischen Anreiz von Beteiligungen\, Ziele der Arbeitgeber versus Ziele der Mitarbeiter\, nachhaltigen Gestaltungen des sozialen Bereichs und Wesentlichkeit\, sowie Nachhaltigkeit im Personalmanagement.  \n\n\n\nAnmeldung unten oder unter veranstaltung@managementcenternord.at  \n\n\n\nEinladung in PDF zum Download –>Herunterladen\n\n\n\n\n\n\n\n\n\n\n\n\n\n\n\n\n\n\n\n\n\n\n
URL:https://www.mcnord.at/event/flexco-flexible-kapitalgesellschaft-neue-moeglichkeiten-der-mitarbeiterbeteiligung/
LOCATION:HP23 – Hauptplatz 23\, 4020 Linz\, Raum: Spielraum\, Hauptplatz 23\, Linz\, 4020\, Österreich
ATTACH;FMTTYPE=image/png:https://www.mcnord.at/wp-content/uploads/2019/03/Einladung_Foto_20190715.png
END:VEVENT
END:VCALENDAR