BEGIN:VCALENDAR
VERSION:2.0
PRODID:-//Managementcenter Nord - ECPv4.9.14//NONSGML v1.0//EN
CALSCALE:GREGORIAN
METHOD:PUBLISH
X-WR-CALNAME:Managementcenter Nord
X-ORIGINAL-URL:https://www.mcnord.at
X-WR-CALDESC:Veranstaltungen im Managementcenter Nord
BEGIN:VTIMEZONE
TZID:Europe/Vienna
BEGIN:DAYLIGHT
TZOFFSETFROM:+0100
TZOFFSETTO:+0200
TZNAME:CEST
DTSTART:20250330T010000
END:DAYLIGHT
BEGIN:STANDARD
TZOFFSETFROM:+0200
TZOFFSETTO:+0100
TZNAME:CET
DTSTART:20251026T010000
END:STANDARD
END:VTIMEZONE
BEGIN:VEVENT
DTSTART;TZID=Europe/Vienna:20251203T081500
DTEND;TZID=Europe/Vienna:20251203T103000
DTSTAMP:20260420T042205
CREATED:20251022T125628Z
LAST-MODIFIED:20251023T045848Z
UID:3212-1764749700-1764757800@www.mcnord.at
SUMMARY:3.12.25 KI im Controlling / MCN Businessbreakfast
DESCRIPTION:\n\n\nAm 3.12.2025 laden wir Sie wieder zu einem MCN Businessbreakfast ein. Wir wollen Sie auf eine spannende Reise mit KI im Controlling entlang der Wertschöpfungskette mitnehmen. Wir wollen Ihnen neue Ansätze\, die durch KI möglich werden\, anhand auch von Praxisbeispielen vorstellen.Folgende Themenbereiche werden die Experten übergreifend andiskutieren und wir laden Sie ein direkt an den Themenstellungen mit Fragen\, Erfahrungen\, Skepsis\, etc. daran teilzunehmen \n\n\n\nChristoph Wurm (Nachhaltigkeit und Controlling) •  Was ist der Mehrwert von Nachhaltigkeits-Controlling •  Wie kann Controlling die Nachhaltigkeitsinitiativen im Unternehmen fördern? •  Wie sehen Lösungsansätze und die praktische Umsetzung aus? \n\n\n\nNorbert Obermayr (betriebliches Controlling) •  Digitale Zwillinge: Abbildung ganzer Produktions- oder Logistik-systeme\, Simulation von Szenarien zur Optimierung. •  Nachhaltigkeit: KI reduziert Energieverbrauch\, optimiert Transportwege und senkt CO₂-Emissionen. •  Mitarbeiterunterstützung: KI-gestützte Assistenzsysteme (z. B. AR-Brillen in der Kommissionierung) Investitionsrechnung in Theorie und Praxis \n\n\n\n Harald Schützinger (kaufmännisches Controlling) •  KI im Finanzcontrolling  \n\n\n\nPeter Buchegger (Gesprächsleitung Stakeholder-Sicht) •  Gesprächsleitung •  Fragestellungen aus Sicht von Stakeholdern\, insbesondere Eigentümer\, Banken\, Lieferanten\, Kunden  \n\n\n\nWir freuen uns auf Ihr Kommen und ersuchen um Anmeldung. \n\n\n\nAnmeldung unter veranstaltung@managementcenternord.at  \n\n\n\nbzw. unten. \n\n\n\nEinladung zum Download:  \n\n\n\nMCN_KI-Controlling_20251203Herunterladen\n\n\n\n\n\n\n\n\n\n\n\n\n\n\n\n\n\n\n
URL:https://www.mcnord.at/event/ki-im-controlling/
LOCATION:HP23 – Hauptplatz 23\, 4020 Linz\, Raum: Spielraum\, Hauptplatz 23\, Linz\, 4020\, Österreich
ATTACH;FMTTYPE=image/png:https://www.mcnord.at/wp-content/uploads/2019/03/Einladung_Foto_20190715.png
END:VEVENT
END:VCALENDAR