BEGIN:VCALENDAR
VERSION:2.0
PRODID:-//Managementcenter Nord - ECPv4.9.14//NONSGML v1.0//EN
CALSCALE:GREGORIAN
METHOD:PUBLISH
X-WR-CALNAME:Managementcenter Nord
X-ORIGINAL-URL:https://www.mcnord.at
X-WR-CALDESC:Veranstaltungen im Managementcenter Nord
BEGIN:VTIMEZONE
TZID:Europe/Vienna
BEGIN:DAYLIGHT
TZOFFSETFROM:+0100
TZOFFSETTO:+0200
TZNAME:CEST
DTSTART:20240331T010000
END:DAYLIGHT
BEGIN:STANDARD
TZOFFSETFROM:+0200
TZOFFSETTO:+0100
TZNAME:CET
DTSTART:20241027T010000
END:STANDARD
END:VTIMEZONE
BEGIN:VEVENT
DTSTART;TZID=Europe/Vienna:20240418T140000
DTEND;TZID=Europe/Vienna:20240418T183000
DTSTAMP:20260420T055845
CREATED:20240115T080535Z
LAST-MODIFIED:20240229T113043Z
UID:2748-1713448800-1713465000@www.mcnord.at
SUMMARY:MCN Business Summit - Schiene 1: Unternehmensnachfolge | Schiene 2: Nachhaltigkeitsmanagement
DESCRIPTION:\n\n\nIn 2 parallelen Schienen werden jeweils 4 Vorträge inkl. Diskussion abgehalten. In der Schiene 1 finden Sie 4 spannende Vorträge zum Thema Unternehmensnachfolge und in Schiene 2 finden Sie 4 Vorträge um das aktuelle Thema von ESG und Nachhaltigkeitsmanagement. \n\n\n\nSCHIENE 1: Unternehmensnachfolge\n\n\n\n\n\n\n\nSCHIENE 2: Nachhaltigkeitsmanagement\n\n\n\n\n\n\n\nDie Veranstaltung ist kostenlos | nur für angemeldete Teilnehmer:innen. \n\n\n\nEinladungsfolder in PDF mit allen Details zu den Vortragenden und Vortragsinhalten:\n\n\n\nDie Einladung finden Sie unter dem folgenden Link zumHerunterladen\n\n\n\n\n\n\n\n\n\n\n\n\n\n\n\n\n\n\n
URL:https://www.mcnord.at/event/mcn-business-summit-schiene-1-unternehmensnachfolge-schiene-2-nachhaltigkeitsmanagement/
LOCATION:HP23 – Hauptplatz 23\, 4020 Linz\, Raum: Spielraum\, Hauptplatz 23\, Linz\, 4020\, Österreich
ATTACH;FMTTYPE=image/png:https://www.mcnord.at/wp-content/uploads/2019/03/Einladung_Foto_20190715.png
END:VEVENT
END:VCALENDAR