BEGIN:VCALENDAR
VERSION:2.0
PRODID:-//Managementcenter Nord - ECPv4.9.14//NONSGML v1.0//EN
CALSCALE:GREGORIAN
METHOD:PUBLISH
X-WR-CALNAME:Managementcenter Nord
X-ORIGINAL-URL:https://www.mcnord.at
X-WR-CALDESC:Veranstaltungen im Managementcenter Nord
BEGIN:VTIMEZONE
TZID:Europe/Vienna
BEGIN:DAYLIGHT
TZOFFSETFROM:+0100
TZOFFSETTO:+0200
TZNAME:CEST
DTSTART:20240331T010000
END:DAYLIGHT
BEGIN:STANDARD
TZOFFSETFROM:+0200
TZOFFSETTO:+0100
TZNAME:CET
DTSTART:20241027T010000
END:STANDARD
END:VTIMEZONE
BEGIN:VEVENT
DTSTART;TZID=Europe/Vienna:20241115T081500
DTEND;TZID=Europe/Vienna:20241115T110000
DTSTAMP:20260420T042416
CREATED:20241019T142002Z
LAST-MODIFIED:20241019T142448Z
UID:2875-1731658500-1731668400@www.mcnord.at
SUMMARY:MCN Businessbreakfast - Unternehmensnachfolge in der Familie und von Betriebsangehörigen
DESCRIPTION:\n\n\nDas MCN Managementcenter Nord lädt Sie zu einem kostenlosen Business Breakfast zum Thema „Unternehmensnachfolge“ ein. \n\n\n\nSchwerpunkt ist diesmal die Unternehmensnachfolge in der Familie und hierbei insbesondere die Stolpersteine & Szenarien iZm Unternehmenswerten & rechtlichen Nachfolgeregelungen. \n\n\n\n\n\n\n\nAufgrund der demographischen Struktur stehen in Österreich aktuell und auch in den nächsten Jahren zahlreiche Unternehmensübergaben an. Jährlich wird von annähernd 10.000 Fällen ausgegangen. Teilweise wird innerhalb der Familie an die nächste Generation übergeben\, doch immer öfter gibt es keinen unmittelbaren Nachfolger aus der Familie und es müssen Alternativen\, wie etwa auch der Verkauf an Mitarbeiter oder Investoren\, gesucht werden. In allen Fällen ist eine optimale Planung und Vorbereitung sowie fachmännische Begleitung der Übergabe entscheidend\, um rechtliche\, steuerliche und emotionale Stolperfallen zu vermeiden. \n\n\n\nDie Einladung in PDF und noch mehr Details zum Business Breakfast finden Sie unter:Herunterladen\n\n\n\n \n\n\n\nBitte melden Sie sich auf dieser Seite an (siehe unten) oder senden Sie uns ein Mail mit dem Betreff „Business Breakfast 15.11.“ an veranstaltung@managementcenternord.at  \n\n\n\n\n\n\n\n\n\n\n\n\n\n\n\n\n\n\n
URL:https://www.mcnord.at/event/mcn-businessbreakfast-unternehmensnachfolge-in-der-familie-und-von-betriebsangehoerigen/
LOCATION:HP23 – Hauptplatz 23\, 4020 Linz\, Raum: Spielraum\, Hauptplatz 23\, Linz\, 4020\, Österreich
ATTACH;FMTTYPE=image/png:https://www.mcnord.at/wp-content/uploads/2019/03/Einladung_Foto_20190715.png
END:VEVENT
END:VCALENDAR