BEGIN:VCALENDAR
VERSION:2.0
PRODID:-//Managementcenter Nord - ECPv4.9.14//NONSGML v1.0//EN
CALSCALE:GREGORIAN
METHOD:PUBLISH
X-WR-CALNAME:Managementcenter Nord
X-ORIGINAL-URL:https://www.mcnord.at
X-WR-CALDESC:Veranstaltungen im Managementcenter Nord
BEGIN:VTIMEZONE
TZID:Europe/Vienna
BEGIN:DAYLIGHT
TZOFFSETFROM:+0100
TZOFFSETTO:+0200
TZNAME:CEST
DTSTART:20220327T010000
END:DAYLIGHT
BEGIN:STANDARD
TZOFFSETFROM:+0200
TZOFFSETTO:+0100
TZNAME:CET
DTSTART:20221030T010000
END:STANDARD
END:VTIMEZONE
BEGIN:VEVENT
DTSTART;TZID=Europe/Vienna:20220331T080000
DTEND;TZID=Europe/Vienna:20220331T100000
DTSTAMP:20260424T085310
CREATED:20220227T114001Z
LAST-MODIFIED:20220227T120957Z
UID:2282-1648713600-1648720800@www.mcnord.at
SUMMARY:MCN Online-Businessbreakfast: A) Finanzierung aus dem Umlaufvermögen iZm Nachfolgen und Restrukturierung | B) Sanierung und Bankenpraxis
DESCRIPTION:\n\n\nPeter Buchegger geht im ersten Teil (8:00 bis 9:00) auf die Themenkomplexe der Neubeurteilung der Unternehmensbonität im Zuge der Firmenübergabe\, bzw. Neustrukturierung innerhalb der Familie durch Lieferanten und Kreditversicherer ein. Mit einer guten Vorbereitung lassen sich manche unerwünschte Nebeneffekte vermeiden. Es werden alternative Finanzierungsvarianten aus und für das Umlaufvermögen präsentiert. Es gibt mehr als nur den einfachen Immobilienbesicherten Kontokorrentrahmen. Praktische Beispiele veranschaulichen\, dass alternative Wege oft zu den gewünschten Zielen führen.  \n\n\n\nChristoph Wurm behandelt den zweiten Teil zum Thema „Sanierung und Bankenpraxis“ von 9:00 bis 10:00. \n\n\n\nDie Finanzierung von Unternehmen durch Banken ist nach wie vor die wesentliche Finanzierungsherkunft für Unternehmen. Der Eintritt einer Unternehmenskrise löst eine Störung der bisherigen Beziehung aus. Eine Sanierung ohne oder gar gegen Banken wird nicht wirklich funktionieren. Christoph Wurm\, der fast zwei Jahrzehnte in wesentlichen Managementrollen einer Regionalbank tätig war\, beschreibt wesentlichen Erfolgsfaktoren\, wie mit einer konstruktiven Zusammenarbeit auch in schwierigen Situationen ein besseres Ergebnis erzielt werden kann. \n\n\n\nVortragende: \n\n\n\n\nMag. PhDr. Peter BucheggerMag. Christoph Wurm\n\n\n\n\nDie Veranstaltung findet unter dem folgenden Link statt: \n\n\n\nKlicken Sie hier\, um an der Veranstaltung teilzunehmen \n\n\n\nBitte melden Sie sich direkt hier am Portal an oder senden Sie uns ein Anmeldemail unter veranstaltung@managementcenternord.at \n\n\n\nSie können sich mit dem obigen Link bzw. Ihrer Anmeldung zu beiden Vortragsteilen aber auch gerne getrennt von 8:00 bis 9:00 (Umlauffinanzierung) oder von 9:00 bis 10:00 (Sanierung und Bankenpraxis) einwählen. \n\n\n\n\n\n\n\n\n\n\n\n\n\n\n\n\n\n\n
URL:https://www.mcnord.at/event/mcn-online-businessbreakfast-finanzierung-aus-dem-umlaufvermoegen-izm-nachfolgen-und-restrukturierung/
ATTACH;FMTTYPE=image/png:https://www.mcnord.at/wp-content/uploads/2019/03/Einladung_Foto_20190715.png
END:VEVENT
END:VCALENDAR