BEGIN:VCALENDAR
VERSION:2.0
PRODID:-//Managementcenter Nord - ECPv4.9.14//NONSGML v1.0//EN
CALSCALE:GREGORIAN
METHOD:PUBLISH
X-WR-CALNAME:Managementcenter Nord
X-ORIGINAL-URL:https://www.mcnord.at
X-WR-CALDESC:Veranstaltungen im Managementcenter Nord
BEGIN:VTIMEZONE
TZID:Europe/Vienna
BEGIN:DAYLIGHT
TZOFFSETFROM:+0100
TZOFFSETTO:+0200
TZNAME:CEST
DTSTART:20210328T010000
END:DAYLIGHT
BEGIN:STANDARD
TZOFFSETFROM:+0200
TZOFFSETTO:+0100
TZNAME:CET
DTSTART:20211031T010000
END:STANDARD
END:VTIMEZONE
BEGIN:VEVENT
DTSTART;TZID=Europe/Vienna:20210910T080000
DTEND;TZID=Europe/Vienna:20210910T090000
DTSTAMP:20260420T093552
CREATED:20210324T130950Z
LAST-MODIFIED:20210816T163539Z
UID:2080-1631260800-1631264400@www.mcnord.at
SUMMARY:MCN-Onlinebreakfast: CORONA-Feuer-Cybercrime- wenn der Betrieb unterbrochen ist bzw. still steht!
DESCRIPTION:\n\n\n! Achtung\, Achtung ! – Neue Risken (Pandemie\, Blackout\, Cyberangriff\, etc.) aber noch mit alten Versicherungsverträgen  \n\n\n\n\n\n\n\n\n\nGastgeber: Mag. Martin Binder lädt zum Thema ein: Wie Vertrags-Ausschlüsse im Schadensfall existenzgefährdend oder zum echten realen Insolvenzauslöser werden. Lernen Sie dieses Thema anhand von echten/realen Negativ- und auch von Positiv-Beispielen kennen.  \n\n\n\nics Kalendereintrag: 07-CORONA-Feuer-Cybercrime-wenn-der-Betrieb-unterbrochen-ist-bzw.-still-steht-Herunterladen\n\n\n\nJahresplan 2021 der MCN OnlinebreakfastsHerunterladen\n\n\n\nIm Jahr 2021 führt das MCN Managementcenter Nord iVm Betrieb zu haben 10 Online Breakfasts jeweils von 8:00 bis 9:00 durch. \n\n\n\nWählen Sie sich zu Ihrem Wunschtermin kostenfrei per MS-Teams ein. \n\n\n\nSie können sich jeweils mit folgendem Link einwählen: \n\n\n\nMCN ONLINE BREAKFAST per MS-TEAMS \n\n\n\nBitte melden Sie sich über veranstaltung@managementcenternord.at oder direkt über das unten stehende Anmeldeformular RVSP an. \n\n\n\nZu Beginn des MCN Online Breakfast wird ein kurzer Fachinput gesetzt und dann über die Themen diskutiert. Wir freuen uns auf Ihre Teilnahme. \n\n\n \n\n\n\n\n\n\n\n\n\n\n\n\n\n\n\n\n\n
URL:https://www.mcnord.at/event/mcn-onlinebreakfast-corona-feuer-cybercrime-wenn-der-betrieb-unterbrochen-ist-bzw-still-steht/
ATTACH;FMTTYPE=image/png:https://www.mcnord.at/wp-content/uploads/2019/03/Einladung_Foto_20190715.png
END:VEVENT
END:VCALENDAR