BEGIN:VCALENDAR
VERSION:2.0
PRODID:-//Managementcenter Nord - ECPv4.9.14//NONSGML v1.0//EN
CALSCALE:GREGORIAN
METHOD:PUBLISH
X-WR-CALNAME:Managementcenter Nord
X-ORIGINAL-URL:https://www.mcnord.at
X-WR-CALDESC:Veranstaltungen im Managementcenter Nord
BEGIN:VTIMEZONE
TZID:Europe/Vienna
BEGIN:DAYLIGHT
TZOFFSETFROM:+0100
TZOFFSETTO:+0200
TZNAME:CEST
DTSTART:20220327T010000
END:DAYLIGHT
BEGIN:STANDARD
TZOFFSETFROM:+0200
TZOFFSETTO:+0100
TZNAME:CET
DTSTART:20221030T010000
END:STANDARD
END:VTIMEZONE
BEGIN:VEVENT
DTSTART;TZID=Europe/Vienna:20220908T080000
DTEND;TZID=Europe/Vienna:20220908T110000
DTSTAMP:20260424T085941
CREATED:20220806T073125Z
LAST-MODIFIED:20220806T073618Z
UID:2404-1662624000-1662634800@www.mcnord.at
SUMMARY:Mitarbeiter finden und binden | DIE aktuelle Herausforderung
DESCRIPTION:\n\n\nAus unserer Schwerpunktreihe „Unternehmensnachfolge“ setzen wir diesmal einen breiteren Rahmen und wenden uns dem Thema „Change und neue Arbeitswelten“ zu. Und hier wiederum mit dem Schwerpunkt „Mitarbeiter finden und binden„.Dieses Businessbreakfast ist kostenlos und findet in der Firma epunkt (in Linz) statt. \n\n\n\nNorbert Obermayr referiert zum Thema „Das neue Verständnis von Arbeit und Arbeitsorganisation. Eine SWOT-Analyse in Bezug auf neue Arbeitswelten.“  \n\n\n\nDaraufhin zeigt uns der Geschäftsführer von epunkt Sam Zibuschka  die Arbeitswelt bei epunkt mit dem Schwerpunkt Mitarbeiter finden & binden  und hierbei Unternehmensnachfolge als Chance. \n\n\n\nReinhard Kollros ergänzt die „Möglichkeiten und Grenzen neuer Arbeitswelten aus rechtlicher Sicht.“ \n\n\n\nDie detaillierte Ausschreibung und Einladung findet sich unter dem folgenden Link:  \n\n\n\nMCN-Businessbreakfast-8.9.2022-bei-epunktHerunterladen\n\n\n\n\n\n\n\n\n\n\n\n\n\n\n\n\n\n\n
URL:https://www.mcnord.at/event/mitarbeiter-finden-und-binden-die-aktuelle-herausforderung/
LOCATION:epunkt (4. Stock)\, Harrachstraße 6\, Linz\, 4020\, Österreich
CATEGORIES:Businessbreakfast
ATTACH;FMTTYPE=image/png:https://www.mcnord.at/wp-content/uploads/2019/03/Einladung_Foto_20190715.png
END:VEVENT
END:VCALENDAR