BEGIN:VCALENDAR
VERSION:2.0
PRODID:-//Managementcenter Nord - ECPv4.9.14//NONSGML v1.0//EN
CALSCALE:GREGORIAN
METHOD:PUBLISH
X-WR-CALNAME:Managementcenter Nord
X-ORIGINAL-URL:https://www.mcnord.at
X-WR-CALDESC:Veranstaltungen im Managementcenter Nord
BEGIN:VTIMEZONE
TZID:Europe/Vienna
BEGIN:DAYLIGHT
TZOFFSETFROM:+0100
TZOFFSETTO:+0200
TZNAME:CEST
DTSTART:20240331T010000
END:DAYLIGHT
BEGIN:STANDARD
TZOFFSETFROM:+0200
TZOFFSETTO:+0100
TZNAME:CET
DTSTART:20241027T010000
END:STANDARD
END:VTIMEZONE
BEGIN:VEVENT
DTSTART;TZID=Europe/Vienna:20240418T080000
DTEND;TZID=Europe/Vienna:20240418T103000
DTSTAMP:20260420T074903
CREATED:20231116T151750Z
LAST-MODIFIED:20231116T151754Z
UID:2717-1713427200-1713436200@www.mcnord.at
SUMMARY:Mitarbeiterbindung und Finanzierung
DESCRIPTION:\n\n\nWir laden Sie zum Businessbreakfast des ÖGV zum Thema Mitarbeiterbindung und Finanzierung ein. \n\n\n\nDetails finden Sie im Einladungsfolder zumHerunterladen\n\n\n\n\n\n\n\n\n\n\n\n\n\n\n\n\n\n\n
URL:https://www.mcnord.at/event/mitarbeiterbindung-und-finanzierung/
LOCATION:ÖGV\, Palais Eschenbach\, Eschenbachstraße 11\, Wien\, Wien\, 1010\, Österreich
ATTACH;FMTTYPE=image/png:https://www.mcnord.at/wp-content/uploads/2019/03/Einladung_Foto_20190715.png
END:VEVENT
END:VCALENDAR