BEGIN:VCALENDAR
VERSION:2.0
PRODID:-//Managementcenter Nord - ECPv4.9.14//NONSGML v1.0//EN
CALSCALE:GREGORIAN
METHOD:PUBLISH
X-WR-CALNAME:Managementcenter Nord
X-ORIGINAL-URL:https://www.mcnord.at
X-WR-CALDESC:Veranstaltungen im Managementcenter Nord
BEGIN:VTIMEZONE
TZID:Europe/Vienna
BEGIN:DAYLIGHT
TZOFFSETFROM:+0100
TZOFFSETTO:+0200
TZNAME:CEST
DTSTART:20210328T010000
END:DAYLIGHT
BEGIN:STANDARD
TZOFFSETFROM:+0200
TZOFFSETTO:+0100
TZNAME:CET
DTSTART:20211031T010000
END:STANDARD
END:VTIMEZONE
BEGIN:VEVENT
DTSTART;TZID=Europe/Vienna:20210115T080000
DTEND;TZID=Europe/Vienna:20210115T090000
DTSTAMP:20260424T103253
CREATED:20201227T165347Z
LAST-MODIFIED:20201229T081132Z
UID:1922-1610697600-1610701200@www.mcnord.at
SUMMARY:MCN-Onlinebreakfast: Unternehmenskauf und -verkauf in der Krise
DESCRIPTION:\n\n\nBei einer Unternehmenstransaktion in der Krise ist eine erhöhte Vorsicht geboten\, um sich keine „Leichen“ einzukaufen. Mag. PhDr. Peter Buchegger möchte folgende Themenbereiche andiskutieren: Was ist bei einem wirtschaftlichen Due Diligence zu beachten? Welche Transaktionsform ist wann die Geeignetere? Auf was ist bei der Finanzierung zu achten – Darlehen\, Eigenmittelersatz\, etc.? \n\n\n\n01-Unternehmenskauf-und-verkauf-in-der-Krise (ICS Kalendereintrag inkl. MS-Teams-Link)Herunterladen\n\n\n\nMCN Online-Businessbreakfast_2021_Jahresprogramm zum …Herunterladen\n\n\n\nIm Jahr 2021 führt das MCN Managementcenter Nord iVm Betrieb zu haben  10 Online Breakfasts jeweils von 8:00 bis 9:00 durch.  \n\n\n\nWählen  Sie sich zu Ihrem Wunschtermin kostenfrei per MS-Teams ein.  \n\n\n\nSie können sich jeweils mit folgendem Link einwählen: \n\n\n\nMCN ONLINE BREAKFAST per MS-TEAMS \n\n\n\nBitte melden Sie sich über veranstaltung@managementcenternord.at oder direkt über das unten stehende Anmeldeformular RVSP an. \n\n\n\nZu Beginn des MCN Online Breakfast wird ein kurzer Fachinput gesetzt und dann über die Themen diskutiert. Wir freuen uns auf Ihre Teilnahme. \n\n\n\n\n\n\n\n\n\n\n\n\n\n\n\n\n\n\n
URL:https://www.mcnord.at/event/unternehmenskauf-und-verkauf-in-der-krise/
ATTACH;FMTTYPE=image/png:https://www.mcnord.at/wp-content/uploads/2019/03/Einladung_Foto_20190715.png
END:VEVENT
END:VCALENDAR