BEGIN:VCALENDAR
VERSION:2.0
PRODID:-//Managementcenter Nord - ECPv4.9.14//NONSGML v1.0//EN
CALSCALE:GREGORIAN
METHOD:PUBLISH
X-WR-CALNAME:Managementcenter Nord
X-ORIGINAL-URL:https://www.mcnord.at
X-WR-CALDESC:Veranstaltungen im Managementcenter Nord
BEGIN:VTIMEZONE
TZID:Europe/Vienna
BEGIN:DAYLIGHT
TZOFFSETFROM:+0100
TZOFFSETTO:+0200
TZNAME:CEST
DTSTART:20200329T010000
END:DAYLIGHT
BEGIN:STANDARD
TZOFFSETFROM:+0200
TZOFFSETTO:+0100
TZNAME:CET
DTSTART:20201025T010000
END:STANDARD
END:VTIMEZONE
BEGIN:VEVENT
DTSTART;TZID=Europe/Vienna:20200924T080000
DTEND;TZID=Europe/Vienna:20200924T110000
DTSTAMP:20260424T084958
CREATED:20200628T150955Z
LAST-MODIFIED:20200724T163050Z
UID:1824-1600934400-1600945200@www.mcnord.at
SUMMARY:Unternehmensnachfolge\, M&A
DESCRIPTION:\n\n\n2020 und 2021 wollen wir Ihnen verstärkt Informationen zum optimalen Aufsetzen Unternehmens-Nachfolgeprozess geben. Sowohl aus Übergeber- als auch aus Übernehmersicht entwickeln wir für Sie Lösungsansätze aus der Praxis für die Praxis.  Dieses Business-Breakfast dreht sich um Fehler im Nachfolgeprozess und die Nachfolgeplanung inklusive der Auswirkungen auf den Unternehmenswert. Beleuchtet wird der Prozess von der Nachfolger-/Betriebssuche bis zum Ver/Kauf eines Unternehmens und der juristischen Optimierung von unterschiedlichen Transaktionsmodellen.  \n\n\n\n\n  08:00 – 08:30\n  \n  Empfang beim Frühstücksbuffet\n  \n  08:30 – 08:35\n  \n  Begrüßung\n  \n  08:35 – 08:55\n  \n  Glanz\n  und Elend in der Betriebsübergabe \n  Beispiele von gelungenen und misslungenen Übergaben       DI Dr. Norbert Obermayr\n  \n  08:55 – 09:15\n   \n  \n  Der Nachfolgeplan und dessen Auswirkungen auf den\n  Unternehmenswert\n  Mag. Dr. Harald Schützinger – orangecosmos\n  \n  09:15\n  – 09:35\n  \n  Kauf\n  und Verkauf von Betrieben – ganz einfach – der Prozess und die neuesten\n  Plattformen\n  Dr. Thomas Reischauer. MBA – Reischauer Consulting GmbH\n  \n  09:55 – 10:35\n  \n  Rechtliche\n  Aspekte zu Nachfolge und M&A\n  DDr.\n  Alexander Hasch – HASCH & PARTNER\n  \n  10:35 – 10:45\n  \n  Ausblick: Vorträge/Veranstaltungen\n  des MCN 2020 und 2021\n  \n  10:45 – 11:00\n  \n  Ausklang\n  / Networking / Einzelgespräche\n  \n\n\n\n\n\nEinladung zum Businessbreakfast von Harald Schützinger\n\n\n\n\n\nEinladung zum Businessbreakfast von Norbert Obermayr\n\n\n\n\n\nEinladung zum MCN Businessbreakfast von Thomas Reischauer\n\n\n\nEinladung im Detail zum Businessbreakfast Nachfolge und M&A am 24.9.2020 von 8:00 bis 11:00Herunterladen\n\n\n\n\n\n\n\n\n\n\n\n\n\n\n\n\n
URL:https://www.mcnord.at/event/unternehmensnachfolge-ma/
LOCATION:Edith Stein Haus Harrachstraße 4\, 4020 Linz\, Harrachstraße\, Linz\, 4020\, Österreich
ATTACH;FMTTYPE=image/png:https://www.mcnord.at/wp-content/uploads/2019/03/Einladung_Foto_20190715.png
ORGANIZER;CN="MCN%20Management%20Center%20Nord%20e.V.%20%E2%80%93%20Harald%20Sch%C3%BCtzinger%2C%20S%C3%BCdanger%2027%2C%204202%20Sonnberg":MAILTO:schuetzinger@orange-cosmos.com
END:VEVENT
END:VCALENDAR