BEGIN:VCALENDAR
VERSION:2.0
PRODID:-//Managementcenter Nord - ECPv4.9.14//NONSGML v1.0//EN
CALSCALE:GREGORIAN
METHOD:PUBLISH
X-WR-CALNAME:Managementcenter Nord
X-ORIGINAL-URL:https://www.mcnord.at
X-WR-CALDESC:Veranstaltungen im Managementcenter Nord
BEGIN:VTIMEZONE
TZID:Europe/Vienna
BEGIN:DAYLIGHT
TZOFFSETFROM:+0100
TZOFFSETTO:+0200
TZNAME:CEST
DTSTART:20200329T010000
END:DAYLIGHT
BEGIN:STANDARD
TZOFFSETFROM:+0200
TZOFFSETTO:+0100
TZNAME:CET
DTSTART:20201025T010000
END:STANDARD
END:VTIMEZONE
BEGIN:VEVENT
DTSTART;TZID=Europe/Vienna:20201022T080000
DTEND;TZID=Europe/Vienna:20201022T120000
DTSTAMP:20260424T085512
CREATED:20200917T104728Z
LAST-MODIFIED:20200917T105402Z
UID:1876-1603353600-1603368000@www.mcnord.at
SUMMARY:Vertiefung^2 zur Unternehmensnachfolge & M&A
DESCRIPTION:\n\n\nKorrespondierend zum Businessbreakfast vom 24.9.2020 vertiefen wir das  Thema „Unternehmensnachfolge\, Unternehmenskauf und -verkauf\, M&A“  am 22. Oktober im Rahmen eines Intensivworkshops. Wenn Sie gerade diese Thematik beschäftigt (z.B. da Sie Ihren Betrieb übergeben wollen oder einen Betrieb erwerben wollen)\, dann wollen wir Ihre Fragen hierzu beantworten und in Erfahrungsaustausch treten. Danach folgt noch ein Halbtag Individualbetreuung. Darüber hinaus können weitere Betreuungstage gebucht werden. \n\n\n\nNutzen Sie auch die eventuellen Förderungen\, die Sie zu diesem Thema in Oberösterreich erhalten. \n\n\n\nEinladung per Mail unter veranstaltung@managementcenternord.at oder auf dieser Seite unten oder unter Verwendung des QR-Codes auf der PDF-Einladung. \n\n\n\nEinladungsdetail zum Vertiefungsworkshop in pdfHerunterladen\n\n\n\n\n\n\n\n\n\n\n\n\n\n\n\n\n\n\n
URL:https://www.mcnord.at/event/vertiefung2-zur-unternehmensnachfolge-ma/
ATTACH;FMTTYPE=image/jpeg:https://www.mcnord.at/wp-content/uploads/2020/05/BZH-Logo.jpg
END:VEVENT
END:VCALENDAR